BEGIN:VCALENDAR
VERSION:2.0
PRODID:-//wp-events-plugin.com//6.4.7.1//EN
BEGIN:VEVENT
UID:6@emsworthvillagevoices.org
DTSTART:20221214T191500Z
DTEND:20221214T223000Z
DTSTAMP:20220331T135707Z
URL:http://emsworthvillagevoices.org/events/winter-social/
SUMMARY:Winter Social 2022 - Wednesday!
DESCRIPTION:Westbourne Parish Hall
CATEGORIES:Social
END:VEVENT
END:VCALENDAR