BEGIN:VCALENDAR
VERSION:2.0
PRODID:-//wp-events-plugin.com//6.4.7.1//EN
BEGIN:VEVENT
UID:7@emsworthvillagevoices.org
DTSTART:20261209T183000Z
DTEND:20261209T220000Z
DTSTAMP:20251218T175242Z
URL:http://emsworthvillagevoices.org/events/winter-social-2019/
SUMMARY:Winter Social 2026
DESCRIPTION:To be decided\n
CATEGORIES:Social
END:VEVENT
END:VCALENDAR