BEGIN:VCALENDAR
VERSION:2.0
PRODID:-//wp-events-plugin.com//6.4.7.1//EN
BEGIN:VEVENT
UID:2@emsworthvillagevoices.org
DTSTART:20261205T150000Z
DTEND:20261205T171500Z
DTSTAMP:20260208T145536Z
URL:http://emsworthvillagevoices.org/events/winter-concert/
SUMMARY:Winter Concert 2026
DESCRIPTION:Southbourne Village Hall\n\n
CATEGORIES:Concert
END:VEVENT
END:VCALENDAR