BEGIN:VCALENDAR
VERSION:2.0
PRODID:-//wp-events-plugin.com//6.4.7.1//EN
BEGIN:VEVENT
UID:1@emsworthvillagevoices.org
DTSTART:20201125T193000Z
DTEND:20201125T213000Z
DTSTAMP:20200114T163520Z
URL:http://emsworthvillagevoices.org/events/winter-concert-dress-rehearsal
 /
SUMMARY:Weekly Rehearsal
DESCRIPTION:Dress Rehearsal
CATEGORIES:Rehearsal
END:VEVENT
END:VCALENDAR