BEGIN:VCALENDAR
VERSION:2.0
PRODID:-//wp-events-plugin.com//6.4.7.1//EN
BEGIN:VEVENT
UID:9@emsworthvillagevoices.org
DTSTART:20240619T190000Z
DTEND:20240619T213000Z
DTSTAMP:20240321T165705Z
URL:http://emsworthvillagevoices.org/events/winter-concert-dress-rehearsal
 -2019/
SUMMARY:Summer Concert Dress Rehearsal
DESCRIPTION:Dress Rehearsal
CATEGORIES:Dress Rehearsal
END:VEVENT
END:VCALENDAR