BEGIN:VCALENDAR
VERSION:2.0
PRODID:-//wp-events-plugin.com//6.4.7.1//EN
BEGIN:VEVENT
UID:408@emsworthvillagevoices.org
DTSTART:20260318T193000Z
DTEND:20260318T213000Z
DTSTAMP:20251218T172838Z
URL:http://emsworthvillagevoices.org/events/weekly-rehearsal-2026-03-18/
SUMMARY:Feb-June Rehearsal
DESCRIPTION:Emsworth Methodist Church
CATEGORIES:Rehearsal
END:VEVENT
END:VCALENDAR