BEGIN:VCALENDAR
VERSION:2.0
PRODID:-//wp-events-plugin.com//6.4.7.1//EN
BEGIN:VEVENT
UID:67@emsworthvillagevoices.org
DTSTART:20200115T193000Z
DTEND:20200115T213000Z
DTSTAMP:20190708T164230Z
URL:http://emsworthvillagevoices.org/events/weekly-rehearsal-2-2019-01-16/
SUMMARY:Weekly Rehearsal
DESCRIPTION:Emsworth Methodist Church
CATEGORIES:Rehearsal
END:VEVENT
END:VCALENDAR