BEGIN:VCALENDAR
VERSION:2.0
PRODID:-//wp-events-plugin.com//6.4.7.1//EN
BEGIN:VEVENT
UID:66@emsworthvillagevoices.org
DTSTART:20200108T193000Z
DTEND:20200108T213000Z
DTSTAMP:20190708T164124Z
URL:http://emsworthvillagevoices.org/events/weekly-rehearsal-2-2019-01-09/
SUMMARY:Weekly Rehearsal
DESCRIPTION:Emsworth Methodist Church
CATEGORIES:Rehearsal
END:VEVENT
END:VCALENDAR