BEGIN:VCALENDAR
VERSION:2.0
PRODID:-//wp-events-plugin.com//6.4.7.1//EN
BEGIN:VEVENT
UID:10@emsworthvillagevoices.org
DTSTART:20260625T190000Z
DTEND:20260625T213000Z
DTSTAMP:20260115T100429Z
URL:http://emsworthvillagevoices.org/events/summer-social/
SUMMARY:Summer Social 2026
DESCRIPTION:\n\n
CATEGORIES:Social
END:VEVENT
END:VCALENDAR