BEGIN:VCALENDAR
VERSION:2.0
PRODID:-//wp-events-plugin.com//6.4.7.1//EN
BEGIN:VEVENT
UID:11@emsworthvillagevoices.org
DTSTART:20260613T191500Z
DTEND:20260613T213000Z
DTSTAMP:20251218T175503Z
URL:http://emsworthvillagevoices.org/events/summer-concert-2019/
SUMMARY:Summer Concert 2026
DESCRIPTION:Southbourne Village Hall
CATEGORIES:Concert
END:VEVENT
END:VCALENDAR