BEGIN:VCALENDAR
VERSION:2.0
PRODID:-//wp-events-plugin.com//6.4.7.1//EN
BEGIN:VEVENT
UID:428@emsworthvillagevoices.org
DTSTART:20260819T193000Z
DTEND:20260819T213000Z
DTSTAMP:20251218T174732Z
URL:http://emsworthvillagevoices.org/events/november-2025-2026-08-19/
SUMMARY:June-Dec Rehearsal
DESCRIPTION:Emsworth Methodist Church
CATEGORIES:Rehearsal
END:VEVENT
END:VCALENDAR