BEGIN:VCALENDAR
VERSION:2.0
PRODID:-//wp-events-plugin.com//6.4.7.1//EN
BEGIN:VEVENT
UID:422@emsworthvillagevoices.org
DTSTART:20260708T193000Z
DTEND:20260708T213000Z
DTSTAMP:20251218T174732Z
URL:http://emsworthvillagevoices.org/events/november-2025-2026-07-08/
SUMMARY:June-Dec Rehearsal
DESCRIPTION:Emsworth Methodist Church
CATEGORIES:Rehearsal
END:VEVENT
END:VCALENDAR