BEGIN:VCALENDAR
VERSION:2.0
PRODID:-//wp-events-plugin.com//6.4.7.1//EN
BEGIN:VEVENT
UID:421@emsworthvillagevoices.org
DTSTART:20260701T193000Z
DTEND:20260701T213000Z
DTSTAMP:20251218T174732Z
URL:http://emsworthvillagevoices.org/events/november-2025-2026-07-01/
SUMMARY:June-Dec Rehearsal
DESCRIPTION:Emsworth Methodist Church
CATEGORIES:Rehearsal
END:VEVENT
END:VCALENDAR